BEGIN:VCALENDAR
VERSION:2.0
PRODID:-//Binsztok - ECPv4.6.18//NONSGML v1.0//EN
CALSCALE:GREGORIAN
METHOD:PUBLISH
X-WR-CALNAME:Binsztok
X-ORIGINAL-URL:https://binsztok.pl
X-WR-CALDESC:Events for Binsztok
BEGIN:VEVENT
DTSTART;VALUE=DATE:20270617
DTEND;VALUE=DATE:20270618
DTSTAMP:20260424T075616
CREATED:20180626T093645Z
LAST-MODIFIED:20180628T081708Z
UID:1744-1813190400-1813276799@binsztok.pl
SUMMARY:Łowca Talentów! Efektywna rekrutacja i dobór pracowników
DESCRIPTION:
URL:https://binsztok.pl/event/lowca-talentow-efektywna-rekrutacja-i-dobor-pracownikow/
CATEGORIES:Przywództwo i zarządzanie
END:VEVENT
END:VCALENDAR