BEGIN:VCALENDAR
VERSION:2.0
PRODID:-//Binsztok - ECPv4.6.18//NONSGML v1.0//EN
CALSCALE:GREGORIAN
METHOD:PUBLISH
X-WR-CALNAME:Binsztok
X-ORIGINAL-URL:https://binsztok.pl
X-WR-CALDESC:Events for Binsztok
BEGIN:VEVENT
DTSTART;VALUE=DATE:20270625
DTEND;VALUE=DATE:20270626
DTSTAMP:20260423T113520
CREATED:20180626T091028Z
LAST-MODIFIED:20180628T081820Z
UID:1717-1813881600-1813967999@binsztok.pl
SUMMARY:Komunikacja perswazyjna i obrona przed manipulacjami w biznesie
DESCRIPTION:Podczas szkolenia Uczestnicy pozyskają wiedzę na temat zasad skutecznej perswazji\, nauczą się jak wykorzystywać w praktyce techniki wywierania wpływu na innych\, zdobędą umiejętność skutecznego radzenia sobie w trudnych sytuacjach\, będą potrafili zastosować prawa psychologii wpływu w codziennej pracy zawodowej\, nauczą się przeciwstawić manipulacji innych osób a także rozwiną w sobie świadomość własnych zachowań i ich znaczenia w kontaktach z innymi ludźmi i nabiorą pewności siebie co umożliwi zwiększenie kreatywności w realizowanych zadaniach zawodowych. \nSzkolenie dedykowane jest osobom na co dzień zajmującymi się sprzedażą i komunikacją z klientem realizując założone cele biznesowe firmy\, pracownikom których praca wymaga wykorzystania wierzy z zakresu psychologii poznawczej oraz psychologii wywierania wpływu. \n
URL:https://binsztok.pl/event/komunikacja-perswazyjna-i-obrona-przed-manipulacjami-w-biznesie-2/
CATEGORIES:Sprzedaż i obsługa klienta
END:VEVENT
END:VCALENDAR