BEGIN:VCALENDAR
VERSION:2.0
PRODID:-//Binsztok - ECPv4.6.18//NONSGML v1.0//EN
CALSCALE:GREGORIAN
METHOD:PUBLISH
X-WR-CALNAME:Binsztok
X-ORIGINAL-URL:http://binsztok.pl
X-WR-CALDESC:Events for Binsztok
BEGIN:VEVENT
DTSTART;VALUE=DATE:20270612
DTEND;VALUE=DATE:20270613
DTSTAMP:20260421T115805
CREATED:20180626T083356Z
LAST-MODIFIED:20180628T081841Z
UID:1710-1812758400-1812844799@binsztok.pl
SUMMARY:Sprzedaż uwieńczona sukcesem
DESCRIPTION:Celem szkolenia jest przygotowanie uczestników do wykonywania zawodu sprzedawcy i uzupełnienie wiedzy dotyczącej profesjonalnej obsługi klienta i standardów dotyczących sprzedaży przez przekazanie informacji dotyczących etapów sprzedaży\, sporządzania oferty handlowej i przygotowania prezentacji sprzedażowej dla klienta. Po ukończeniu szkolenia uczestnicy będą umieli wykorzystać w pracy wiedzę w zakresie standardów obsługi klienta\, etapów procesu sprzedaży\, sporządzania oferty handlowej\, radzenia sobie z trudnym klientem. \nBędą potrafili efektywnie reprezentować firmę przed klientem\, stosować język korzyści podczas rozmów z klientem i rozwiać jego obiekcje i zastrzeżenia co do ewentualnej transakcji sprzedażowej \nSzkolenie jest dwuwymiarowe – obejmuje zagadnienia i narzędzia z nowoczesnej psychologii sprzedaży\, które mogą przełożyć się na efektywniejszą sprzedaż od pierwszego dnia stosowania. Dodatkowo porusza kwestie metodologii i nauki naszych podopiecznych zagadnień związanych z obsługą Klientów. \nWarsztat dedykowany jest właścicielom firm\, managerom\, trenerom\, lub doświadczonym handlowcom\, którzy chcą przenieść swoją karierę na wyższy poziom. \n
URL:http://binsztok.pl/event/sprzedaz-uwienczona-sukcesem/
CATEGORIES:Sprzedaż i obsługa klienta
END:VEVENT
END:VCALENDAR